BEGIN:VCALENDAR
VERSION:2.0
PRODID:-//wp-events-plugin.com//7.2.3.1//EN
TZID:Europe/Brussels
X-WR-TIMEZONE:Europe/Brussels
BEGIN:VEVENT
UID:40@codenplay.be
DTSTART;TZID=Europe/Brussels:20251128T090000
DTEND;TZID=Europe/Brussels:20251128T190000
DTSTAMP:20251027T092947Z
URL:https://codenplay.be/fr/events/codenplay-day-2025-une-journee-riche-en
 -ateliers-et-echanges-inspirants/
SUMMARY:CodeNPlay Dag 2025 - Een dag vol inspirerende workshops en discussi
 es
DESCRIPTION:CodeNPlay Day is terug voor zijn derde editie\, vol met praktis
 che workshops\, inspirerende discussies en praktisch leren over digitaal o
 nderwijs. De dag is bedoeld voor leerkrachten\, toekomstige leerkrachten\,
  digitale referenten en andere spelers in de onderwijssector en heeft als 
 doel jongeren actiever\, creatiever en kritischer te maken als het gaat om
  digitale tools. Nieuw dit jaar: workshops in het Nederlands open voor lee
 rkrachten uit Vlaanderen!\n\nCodeNPlay Day is terug voor nog een dag vol p
 raktische workshops\, concreet leren en inspirerende uitwisselingen tussen
  collega's.\nOmdat digitale technologie onze scholen\, praktijken en samen
 leving verandert. Omdat leerkrachten praktische hulpmiddelen nodig hebben 
 om zich de nieuwe normen eigen te maken en digitale technologie in hun les
 methoden te integreren. Omdat digitaal onderwijs kritisch\, creatief en in
 clusief moet zijn.\n\nEn om nog veel meer redenen is CodeNPlay Day terug o
 p 28 november 2025 voor zijn derde editie in de Infrabel Academy!\n\nInsch
 rijvingen\n\nEen dag vol training en experimenten rond het thema "Integrat
 ie van digitale technologie in scholen: van visie naar praktijk"\, met een
  verscheidenheid aan workshops\, het delen van ervaringen\, kant-en-klare 
 tools en inspirerende sprekers om te ontdekken\, te testen en te verlaten\
 , klaar om actie te ondernemen in de klas.\n\nHet evenement is bedoeld voo
 r iedereen die betrokken is bij digitaal onderwijs: leerkrachten van basis
 scholen\, digitale referenten\, schoolhoofden\, studenten onderwijs\, regi
 onale centra\, enz. en staat\, net als vorig jaar\, open voor leerkrachten
  uit Vlaanderen\, met workshops in het Nederlands.\n\nVolg ons op 28 novem
 ber 2025 van 9.00 tot 17.00 uur voor een inspirerende dag en vertrek uitge
 rust voor het digitale onderwijs van morgen.\n\nProgramma voor de dag:\n\n
 \n\n&nbsp\;\n\nIn 3 sessies wordt een breedscala aan praktischeworkshops v
 oor alle leeftijden aangeboden. Je krijgt praktische ideeën en hulpmiddel
 en mee die je direct in je klas kunt toepassen.\n  \n\n\n&nbsp\;\n\nInschr
 ijvingen\n\n&nbsp\;\n\n\n\n\n
ATTACH;FMTTYPE=image/jpeg:https://codenplay.be/wp-content/uploads/2025/07/
 CodeNPlay-Day.avif
CATEGORIES:Formations
LOCATION:Infrabel Academy\, Rue Dubois-Thorn 50\, Molenbeek-Saint-Jean\, Br
 uxelles\, 1080\, Bruxelles\, Belgique
X-APPLE-STRUCTURED-LOCATION;VALUE=URI;X-ADDRESS=Rue Dubois-Thorn 50\, Molen
 beek-Saint-Jean\, Bruxelles\, 1080\, Bruxelles\, Belgique;X-APPLE-RADIUS=1
 00;X-TITLE=Infrabel Academy:geo:0,0
END:VEVENT
BEGIN:VTIMEZONE
TZID:Europe/Brussels
X-LIC-LOCATION:Europe/Brussels
BEGIN:STANDARD
DTSTART:20251026T020000
TZOFFSETFROM:+0200
TZOFFSETTO:+0100
TZNAME:CET
END:STANDARD
END:VTIMEZONE
END:VCALENDAR