BEGIN:VCALENDAR
VERSION:2.0
PRODID:-//wp-events-plugin.com//7.2.3.1//EN
TZID:Europe/Brussels
X-WR-TIMEZONE:Europe/Brussels
BEGIN:VEVENT
UID:4@codenplay.be
DTSTART;TZID=Europe/Brussels:20251128T090000
DTEND;TZID=Europe/Brussels:20251128T190000
DTSTAMP:20250829T125746Z
URL:https://codenplay.be/fr/events/codenplay-day-2025/
SUMMARY:CodeNPlay Day 2025 - Une journée riche en ateliers et échanges in
 spirants
DESCRIPTION:Le CodeNPlay Day revient pour une quatrième édition pleine d
 ’ateliers pratiques\, d’échanges inspirants et d’apprentissages con
 crets autour de l’éducation au numérique. Destinée aux enseignant·es
 \, futur·es enseignant·es\, référent·es numériques et autres acteur
 ·rices de l’éducation\, cette journée vise à rendre les jeunes plus 
 actif·ves\, créatif·ves et critiques face aux outils numériques. Nouve
 auté cette année : des ateliers en néerlandais ouverts aux enseignant·
 es de Flandre !\n\nLe CodeNPlay Day fait son grand retour pour une journé
 e riche en ateliers pratiques\, en apprentissages concrets et en échanges
  inspirants entre pair·es.\nParce que le numérique transforme nos école
 s\, nos pratiques et notre société. Parce que les enseignant·es ont bes
 oin d’outils concrets pour s’approprier les nouveaux référentiels et
  intégrer le numérique dans leur pédagogie. Parce que l’éducation au
  numérique doit être critique\, créative et inclusive.\n\nEt pour bien 
 d’autres raisons encore\, le CodeNPlay Day revient le 28 novembre 2025 p
 our sa quatrième édition à l’Infrabel Academy !\n\nVous êtes enseign
 ant·es en Fédération Wallonie Bruxelles ?\n\nIFPC - S’inscrire ici\n\
 n\nVous n'êtes pas enseignant·es en FWB ? Fédération Wallonie Bruxelle
 s\n\nInscriptions hors IFPC\n\n\nUne journée de formation et d’expérim
 entation autour du thème : « Intégrer le numérique à l’école : de 
 la vision à la pratique »\, avec des ateliers variés\, des partages d
 ’expériences\, des outils clé-en-main et des intervenant·es inspirant
 ·es pour découvrir\, tester et repartir prêt·es à agir dans sa classe
 .\n\nL’événement s’adresse à toute personne investie dans l’éduc
 ation au numérique : enseignant·es du fondamental\, référent·es numé
 riques\, directions\, étudiant·es en pédagogie\, pôles territoriaux...
  et comme l’an passé\, ouvert aux enseignant·es de Flandre avec des at
 eliers en néerlandais.\n\nRendez-vous le 28 novembre 2025 de 9h à 17h po
 ur vivre une journée inspirante et repartir outillé·e pour le numériqu
 e éducatif de demain.\n\nProgramme de la journée:\n\n\n\n&nbsp\;\n\nUn g
 rand nombre d'ateliers variés\, pratiques et adaptés à tous·tes vous s
 ont proposés lors de 3 séances. Repartez avec des idées concrètes et d
 es outils applicables directement dans vos classes :\n\n\nPlein écran\n\n
 Vous êtes enseignant·es en Fédération Wallonie Bruxelles ?\n\nIFPC - S
 ’inscrire ici\n\n\nVous n'êtes pas enseignant·es en FWB ? Fédération
  Wallonie Bruxelles\n\nInscriptions hors IFPC\n\n\n\n\n\n
ATTACH;FMTTYPE=image/jpeg:https://codenplay.be/wp-content/uploads/2025/07/
 CodeNPlay-Day.avif
CATEGORIES:Formations
LOCATION:Infrabel Academy\, Rue Dubois-Thorn 50\, Molenbeek-Saint-Jean\, Br
 uxelles\, 1080\, Bruxelles\, Belgique
X-APPLE-STRUCTURED-LOCATION;VALUE=URI;X-ADDRESS=Rue Dubois-Thorn 50\, Molen
 beek-Saint-Jean\, Bruxelles\, 1080\, Bruxelles\, Belgique;X-APPLE-RADIUS=1
 00;X-TITLE=Infrabel Academy:geo:0,0
END:VEVENT
BEGIN:VTIMEZONE
TZID:Europe/Brussels
X-LIC-LOCATION:Europe/Brussels
BEGIN:STANDARD
DTSTART:20251026T020000
TZOFFSETFROM:+0200
TZOFFSETTO:+0100
TZNAME:CET
END:STANDARD
END:VTIMEZONE
END:VCALENDAR