BEGIN:VCALENDAR
VERSION:2.0
PRODID:-//wp-events-plugin.com//7.2.3.1//EN
TZID:Europe/Brussels
X-WR-TIMEZONE:Europe/Brussels
BEGIN:VEVENT
UID:16@codenplay.be
DTSTART;TZID=Europe/Brussels:20260312T090000
DTEND;TZID=Europe/Brussels:20260313T160000
DTSTAMP:20250826T142205Z
URL:https://codenplay.be/fr/events/fmttn-8-10ans/
SUMMARY:Compétences Numériques du FMTTN: Une valise pédagogique utile po
 ur les 8-10 ans.
DESCRIPTION:\n\n\nLes outils numériques sont de plus en plus présents dan
 s notre quotidien et celui des enfants. De plus\, les compétences numéri
 ques rentrent cette année dans le nouveau référentiel FMTTN.\nCodeNPlay
  a développé en partenariat avec des enseignant·es et des chercheur·eu
 ses un ensemble d’activités couvrant l’entièreté des savoirs\, savo
 ir-faire et compétences numériques du FMTTN à travailler en P3 et P4.\n
 Lors de cette formation\, vous découvrirez une valise pédagogique pour l
 es 8-10 ans remplies d’activités clé en main qui vous permettront d’
 aborder sereinement l’éducation au numérique dans votre classe en alli
 ant l’informatique\, la robotique pédagogique et la programmation. Vous
  aurez aussi l'opportunité de créer votre propre dispositif pédagogique
  sur base de ce que vous apprendrez et de vos besoins personnels\nIFPC - S
 ’inscrire ici\n\n\n\n\n\nPublic Cible\n\nMembre du personnel de l'enseig
 nement fondamental ordinaire\, P3 et P4\n\n\n\nObjectifs\n\n\n\n 	Appréhe
 nder le sens et les enjeux des savoirs\, savoir-faire et compétences cibl
 és par la formation en fonction des référentiel(s) dont ils sont issus.
 \n 	A partir de ressources scientifiques récentes\, développer ses conna
 issances au regard de ces savoirs\, savoir-faire et compétences en lien a
 vec le numérique.\n 	A partir d’activités variées\, envisager les imp
 lications de ces nouvelles connaissances sur ses pratiques d'enseignement.
 \n 	Repérer les ressources pédagogiques disponibles et celles à (se)cr
 éer.\n\n\n\n\n\n\n\nIFPC - S’inscrire ici\n
ATTACH;FMTTYPE=image/jpeg:https://codenplay.be/wp-content/uploads/2025/08/
 0061_CODE_N_PLAY-20250429-509815_WEB-1-e1756163683425.jpg
CATEGORIES:Formations
LOCATION:A6K\, Square des Martyrs\, Charleroi\, Charleroi\, 6000\, Hainaut\
 , Belgique
X-APPLE-STRUCTURED-LOCATION;VALUE=URI;X-ADDRESS=Square des Martyrs\, Charle
 roi\, Charleroi\, 6000\, Hainaut\, Belgique;X-APPLE-RADIUS=100;X-TITLE=A6K
 :geo:0,0
END:VEVENT
BEGIN:VTIMEZONE
TZID:Europe/Brussels
X-LIC-LOCATION:Europe/Brussels
BEGIN:STANDARD
DTSTART:20251026T020000
TZOFFSETFROM:+0200
TZOFFSETTO:+0100
TZNAME:CET
END:STANDARD
END:VTIMEZONE
END:VCALENDAR