BEGIN:VCALENDAR
VERSION:2.0
PRODID:-//wp-events-plugin.com//7.2.3.1//EN
TZID:Europe/Brussels
X-WR-TIMEZONE:Europe/Brussels
BEGIN:VEVENT
UID:15@codenplay.be
DTSTART;TZID=Europe/Brussels:20251211T090000
DTEND;TZID=Europe/Brussels:20251212T160000
DTSTAMP:20250902T130621Z
URL:https://codenplay.be/fr/events/robotique-activites-debranchees-et-prog
 rammation-au-service-des-mathematiques-pour-les-5-8-ans/
SUMMARY:Robotique\, activités débranchées et programmation au service de
 s mathématiques pour les 5-8 ans
DESCRIPTION:\n\n\nAu cours de cette formation\, vous découvrirez comment i
 ntégrer la programmation\, la robotique pédagogique et les activités d
 ébranchées au service des mathématiques de manière ludique et interact
 ive. Vous apprendrez à utiliser des outils pédagogiques innovants qui mo
 tiveront vos élèves et leur permettront de développer leur créativité
 \, leur esprit critique et leur capacité à résoudre des problèmes. Vou
 s vous familiarisez avec les concepts de base\nde la programmation et déc
 ouvrirez des environnements de programmation adaptés à vos élèves. Vou
 s repartirez de cette formation avec des outils pédagogiques concrets pou
 r intégrer la programmation et la robotique dans vos cours de mathématiq
 ues.\nIFPC - S’inscrire ici\n\n\n\nPublic Cible\n\nMembre du personnel d
 e l'enseignement fondamental ordinaire ou spécialisé\, de M3 à P2\n\n\n
 \nObjectifs\n\n\n\n 	Appréhender le sens et les enjeux des savoirs\, savo
 ir-faire et compétences ciblés par la formation en fonction des référe
 ntiel(s) dont ils sont issus.\n 	A partir de ressources scientifiques réc
 entes\, développer ses connaissances au regard de ces savoirs\, savoir-fa
 ire et compétences en lien avec le numérique.\n 	A partir d’activités
  variées\, envisager les implications de ces nouvelles connaissances sur 
 ses pratiques d'enseignement.\n 	Repérer les ressources pédagogiques dis
 ponibles et celles à (se)créer.\n\n\n\n\n\nIFPC - S’inscrire ici\n
ATTACH;FMTTYPE=image/jpeg:https://codenplay.be/wp-content/uploads/2025/08/
 0038_CODE_N_PLAY-20250429-509703_WEB-1-e1756163134242.jpg
CATEGORIES:Formations
LOCATION:A6K\, Square des Martyrs\, Charleroi\, Charleroi\, 6000\, Hainaut\
 , Belgique
X-APPLE-STRUCTURED-LOCATION;VALUE=URI;X-ADDRESS=Square des Martyrs\, Charle
 roi\, Charleroi\, 6000\, Hainaut\, Belgique;X-APPLE-RADIUS=100;X-TITLE=A6K
 :geo:0,0
END:VEVENT
BEGIN:VTIMEZONE
TZID:Europe/Brussels
X-LIC-LOCATION:Europe/Brussels
BEGIN:STANDARD
DTSTART:20251026T020000
TZOFFSETFROM:+0200
TZOFFSETTO:+0100
TZNAME:CET
END:STANDARD
END:VTIMEZONE
END:VCALENDAR