BEGIN:VCALENDAR
VERSION:2.0
PRODID:-//wp-events-plugin.com//7.2.3.1//EN
TZID:Europe/Brussels
X-WR-TIMEZONE:Europe/Brussels
BEGIN:VEVENT
UID:17@codenplay.be
DTSTART;TZID=Europe/Brussels:20260521T090000
DTEND;TZID=Europe/Brussels:20260522T160000
DTSTAMP:20250826T142243Z
URL:https://codenplay.be/nl/events/donner-le-gout-des-stem-aux-10-12-ans-a
 vec-une-valise-pedagogique-numerique-sciences-et-math/
SUMMARY:Donner le goût des STEM aux 10-12 ans avec une valise pédagogique
  numérique\, sciences et math
DESCRIPTION:\n\n\nLes outils numériques sont de plus en plus présents dan
 s notre quotidien et celui des enfants. De plus\, les compétences numéri
 ques rentrent cette année dans le nouveau référentiel FMTTN.\nCodeNPlay
  a développé en partenariat avec des enseignant·es et des chercheur·eu
 ses un ensemble d’activités couvrant l’entièreté des savoirs\, savo
 ir-faire et compétences numériques du FMTTN à travailler en P5 et P6.\n
 Lors de cette formation\, vous découvrirez une valise pédagogique pour l
 es 10-12 ans remplies d’activités clé en main qui vous permettront d
 ’aborder sereinement l’éducation au numérique dans votre classe en a
 lliant l’informatique\, la robotique pédagogique et la programmation. V
 ous aurez aussi l'opportunité de créer votre propre dispositif pédagogi
 que sur base de ce que vous apprendrez et de vos besoins personnels\nIFPC 
 - S’inscrire ici\n\n\n\n\n\n\n\nPublic Cible\n\nMembre du personnel de l
 'enseignement fondamental P5 et P6 ou secondaire ordinaire du DI : science
 s\, mathématique\n\n\n\nObjectifs\n\n\n\n 	Appréhender le sens et les en
 jeux des savoirs\, savoir-faire et compétences ciblés par la formation e
 n fonction des référentiel(s) dont ils sont issus.\n 	A partir de ressou
 rces scientifiques récentes\, développer ses connaissances au regard de 
 ces savoirs\, savoir-faire et compétences en lien avec le numérique.\n 	
 A partir d’activités variées\, envisager les implications de ces nouve
 lles connaissances sur ses pratiques d'enseignement.\n 	Repérer les resso
 urces pédagogiques disponibles et celles à (se)créer.\n\n\n\n\n\n\n\n\n
 \nIFPC - S’inscrire ici\n
ATTACH;FMTTYPE=image/jpeg:https://codenplay.be/wp-content/uploads/2025/08/
 0045_CODE_N_PLAY-20250429-509725_WEB-1-e1756164215710.jpg
CATEGORIES:Opleiding
LOCATION:Becentral\, Cantersteen 12\,  Bruxelles\, Bruxelles\, 1000\, Belgi
 ë
X-APPLE-STRUCTURED-LOCATION;VALUE=URI;X-ADDRESS=Cantersteen 12\,  Bruxelles
 \, Bruxelles\, 1000\, België;X-APPLE-RADIUS=100;X-TITLE=Becentral:geo:0,0
END:VEVENT
BEGIN:VTIMEZONE
TZID:Europe/Brussels
X-LIC-LOCATION:Europe/Brussels
BEGIN:DAYLIGHT
DTSTART:20260329T030000
TZOFFSETFROM:+0100
TZOFFSETTO:+0200
TZNAME:CEST
END:DAYLIGHT
END:VTIMEZONE
END:VCALENDAR