BEGIN:VCALENDAR
VERSION:2.0
PRODID:-//wp-events-plugin.com//7.2.3.1//EN
TZID:Europe/Brussels
X-WR-TIMEZONE:Europe/Brussels
BEGIN:VEVENT
UID:44@codenplay.be
DTSTART;TZID=Europe/Brussels:20260720T090000
DTEND;TZID=Europe/Brussels:20260724T163000
DTSTAMP:20260324T152819Z
URL:https://codenplay.be/nl/events/stage-impulsion-2016-a-saint-gilles-rea
 lisation-dun-jeu-interactif-avec-microbit-et-manette-gamer-p5-p6/
SUMMARY:Stage à Saint-Gilles : réalisation d’un jeu interactif avec Mic
 ro:bit et manette gamer  - juillet 2026 (P5 - P6)
DESCRIPTION:Toutes les infos ici\n\n\nDu 20 au 24 juillet 2026 de 09h00 à 
 16h30 à la Cité des Jeunes (Saint-Gilles)\, offrez à votre enfant l'opp
 ortunité de développer des compétences essentielles pour l'avenir tout 
 en s'amusant grâce à notre stage alliant technologie et créativité.\n\
 nDestiné aux enfants de la 5ème à la 6ème primaire\, ce stage innovant
  combine la programmation\, la citoyenneté numérique et l’improvisatio
 n théâtrale pour favoriser à la fois leur épanouissement personnel et 
 leur apprentissage.\n\nUne garderie est prévue de 08h00 à 09h00 et de 16
 h30 à 17h30.\n\nAvec le soutien de la COCOF – Service de la Cohésion s
 ociale\n\n\nS'inscrire\n
ATTACH;FMTTYPE=image/jpeg:https://codenplay.be/wp-content/uploads/2025/07/
 stages-illu_edited.avif
CATEGORIES:Maison des jeunes à Saint-Gilles,P5-P6,Cursussen
LOCATION:La Cité Des Jeunes\, Rue Du Tir 16\, Bruxelles\, 1060\, België
X-APPLE-STRUCTURED-LOCATION;VALUE=URI;X-ADDRESS=Rue Du Tir 16\, Bruxelles\,
  1060\, België;X-APPLE-RADIUS=100;X-TITLE=La Cité Des Jeunes:geo:0,0
END:VEVENT
BEGIN:VTIMEZONE
TZID:Europe/Brussels
X-LIC-LOCATION:Europe/Brussels
BEGIN:DAYLIGHT
DTSTART:20260329T030000
TZOFFSETFROM:+0100
TZOFFSETTO:+0200
TZNAME:CEST
END:DAYLIGHT
END:VTIMEZONE
END:VCALENDAR